BEGIN:VCALENDAR
PRODID:-//kirchenweb.ch gmbh//veranstaltungsausgabe v2.0//DE
VERSION:2.0
METHOD:PUBLISH
BEGIN:VEVENT
DTSTART:20260614T090000Z
DTEND:20260614T100000Z
LOCATION:evangelische Kirche Ganterschwil\, Neckertalstr. 1\, 9608
  Ganterschwil
TRANSP:OPAQUE
SEQUENCE:0
UID:21254-veranstaltung@ref-toggenburg.ch
DTSTAMP:20260416T072447Z
DESCRIPTION:Kontakt: Fabian Kuhn\n\nWeitere Infos:
  https://www.ref-toggenburg.ch/veranstaltung/21254
SUMMARY:Taufe Mika Keller
PRIORITY:5
X-MICROSOFT-CDO-IMPORTANCE:1
CLASS:PUBLIC
END:VEVENT
END:VCALENDAR
