BEGIN:VCALENDAR
PRODID:-//kirchenweb.ch gmbh//veranstaltungsausgabe v2.0//DE
VERSION:2.0
METHOD:PUBLISH
BEGIN:VEVENT
DTSTART:20260515T180000Z
DTEND:20260515T200000Z
LOCATION:Kirchgemeindehaus Ganterschwil\, Friedaustrasse 6\, 9608
  Ganterschwil
TRANSP:OPAQUE
SEQUENCE:0
UID:21066-veranstaltung@ref-toggenburg.ch
DTSTAMP:20260320T204041Z
DESCRIPTION:Kontakt: Martin Koller\n\nWeitere Infos:
  https://www.ref-toggenburg.ch/veranstaltung/21066
SUMMARY:Bibelgesprächskreis
PRIORITY:5
X-MICROSOFT-CDO-IMPORTANCE:1
CLASS:PUBLIC
END:VEVENT
END:VCALENDAR
