BEGIN:VCALENDAR
PRODID:-//kirchenweb.ch gmbh//veranstaltungsausgabe v2.0//DE
VERSION:2.0
METHOD:PUBLISH
BEGIN:VEVENT
DTSTART:20260515T170000Z
DTEND:20260515T190000Z
LOCATION:evangelische Kirche Lütisburg\, Kirchstr. 2\, 9604 Lütisburg
TRANSP:OPAQUE
SEQUENCE:0
UID:21060-veranstaltung@ref-toggenburg.ch
DTSTAMP:20260402T094216Z
DESCRIPTION:Kontakt: Petra Glatthard\n\nWeitere Infos:
  https://www.ref-toggenburg.ch/veranstaltung/21060
SUMMARY:#connect - Jugendgruppe
PRIORITY:5
X-MICROSOFT-CDO-IMPORTANCE:1
CLASS:PUBLIC
END:VEVENT
END:VCALENDAR
