BEGIN:VCALENDAR
PRODID:-//kirchenweb.ch gmbh//veranstaltungsausgabe v2.0//DE
VERSION:2.0
METHOD:PUBLISH
BEGIN:VEVENT
DTSTART:20261217T103000Z
DTEND:20261217T113000Z
LOCATION:Rest. Hirschen\, Mosnang\, \, 9607 Mosnang
TRANSP:OPAQUE
SEQUENCE:0
UID:21045-veranstaltung@ref-toggenburg.ch
DTSTAMP:20260319T072145Z
DESCRIPTION:Kontakt: gottes.dienst@ref-utg.ch\n\nWeitere Infos:
  https://www.ref-toggenburg.ch/veranstaltung/21045
SUMMARY:Mittagstisch Senioren (BMG)
PRIORITY:5
X-MICROSOFT-CDO-IMPORTANCE:1
CLASS:PUBLIC
END:VEVENT
END:VCALENDAR
