BEGIN:VCALENDAR
PRODID:-//kirchenweb.ch gmbh//veranstaltungsausgabe v2.0//DE
VERSION:2.0
METHOD:PUBLISH
BEGIN:VEVENT
DTSTART:20261023T120000Z
DTEND:20261023T130000Z
LOCATION:Ganterschwil\, siehe Mitteilungsblatt\, \,
TRANSP:OPAQUE
SEQUENCE:0
UID:21043-veranstaltung@ref-toggenburg.ch
DTSTAMP:20260319T071536Z
DESCRIPTION:Kontakt: gottes.dienst@ref-utg.ch\n\nWeitere Infos:
  https://www.ref-toggenburg.ch/veranstaltung/21043
SUMMARY:Nachmittagsanlass Senioren (BMG)
PRIORITY:5
X-MICROSOFT-CDO-IMPORTANCE:1
CLASS:PUBLIC
END:VEVENT
END:VCALENDAR
