BEGIN:VCALENDAR
PRODID:-//kirchenweb.ch gmbh//veranstaltungsausgabe v2.0//DE
VERSION:2.0
METHOD:PUBLISH
BEGIN:VEVENT
DTSTART:20261015T093000Z
DTEND:20261015T103000Z
LOCATION:Rest. Schäfle\, Bütschwil\, \,
TRANSP:OPAQUE
SEQUENCE:0
UID:21042-veranstaltung@ref-toggenburg.ch
DTSTAMP:20260319T071315Z
DESCRIPTION:Kontakt: Maja Wild\n\nWeitere Infos:
  https://www.ref-toggenburg.ch/veranstaltung/21042
SUMMARY:Mittagstisch Senioren (BMG)
PRIORITY:5
X-MICROSOFT-CDO-IMPORTANCE:1
CLASS:PUBLIC
END:VEVENT
END:VCALENDAR
