BEGIN:VCALENDAR
PRODID:-//kirchenweb.ch gmbh//veranstaltungsausgabe v2.0//DE
VERSION:2.0
METHOD:PUBLISH
BEGIN:VEVENT
DTSTART:20260917T093000Z
DTEND:20260917T103000Z
LOCATION:Rest. Wies\, Bütschwil \, \, 9606 Bütschwil
TRANSP:OPAQUE
SEQUENCE:0
UID:21041-veranstaltung@ref-toggenburg.ch
DTSTAMP:20260319T071141Z
DESCRIPTION:Kontakt: Maja Wild\n\nWeitere Infos:
  https://www.ref-toggenburg.ch/veranstaltung/21041
SUMMARY:Mittagstisch Senioren (BMG)
PRIORITY:5
X-MICROSOFT-CDO-IMPORTANCE:1
CLASS:PUBLIC
END:VEVENT
END:VCALENDAR
