BEGIN:VCALENDAR
PRODID:-//kirchenweb.ch gmbh//veranstaltungsausgabe v2.0//DE
VERSION:2.0
METHOD:PUBLISH
BEGIN:VEVENT
DTSTART:20260616T120000Z
DTEND:20260616T150000Z
LOCATION:Pfarrhaus Bütschwil\, Innerfeld 64\, 9606 Bütschwil
TRANSP:OPAQUE
SEQUENCE:0
UID:20845-veranstaltung@ref-toggenburg.ch
DTSTAMP:20260219T135521Z
DESCRIPTION:Kontakt: Annelies Gämperle\n\nWeitere Infos:
  https://www.ref-toggenburg.ch/veranstaltung/20845
SUMMARY:Offene Tür
PRIORITY:5
X-MICROSOFT-CDO-IMPORTANCE:1
CLASS:PUBLIC
END:VEVENT
END:VCALENDAR
