BEGIN:VCALENDAR
PRODID:-//kirchenweb.ch gmbh//veranstaltungsausgabe v2.0//DE
VERSION:2.0
METHOD:PUBLISH
BEGIN:VEVENT
DTSTART:20260606T170000Z
DTEND:20260606T193000Z
LOCATION:evangelische Kirche Lütisburg\, Kirchstr. 2\, 9604 Lütisburg
TRANSP:OPAQUE
SEQUENCE:0
UID:20731-veranstaltung@ref-toggenburg.ch
DTSTAMP:20260323T054657Z
DESCRIPTION:Kontakt: Fabian Kuhn\n\nWeitere Infos:
  https://www.ref-toggenburg.ch/veranstaltung/20731
SUMMARY:Abendgottesdienst "Happy Hour" in Lütisburg
PRIORITY:5
X-MICROSOFT-CDO-IMPORTANCE:1
CLASS:PUBLIC
END:VEVENT
END:VCALENDAR
