BEGIN:VCALENDAR
PRODID:-//kirchenweb.ch gmbh//veranstaltungsausgabe v2.0//DE
VERSION:2.0
METHOD:PUBLISH
BEGIN:VEVENT
DTSTART:20270107T150000Z
DTEND:20270107T160000Z
LOCATION:Seniorenzentrum Solino\, \,
TRANSP:OPAQUE
SEQUENCE:0
UID:20680-veranstaltung@ref-toggenburg.ch
DTSTAMP:20260114T142041Z
DESCRIPTION:Kontakt: Anselm Leser\n\nWeitere Infos:
  https://www.ref-toggenburg.ch/veranstaltung/20680
SUMMARY:Gottesdienst mit Abendmahl im Seniorenzentrum Solino
PRIORITY:5
X-MICROSOFT-CDO-IMPORTANCE:1
CLASS:PUBLIC
END:VEVENT
END:VCALENDAR
