BEGIN:VCALENDAR
PRODID:-//kirchenweb.ch gmbh//veranstaltungsausgabe v2.0//DE
VERSION:2.0
METHOD:PUBLISH
BEGIN:VEVENT
DTSTART:20260626T143000Z
DTEND:20260626T153000Z
LOCATION:Kirchgemeindehaus Ganterschwil\, Friedaustrasse 6\, 9608
  Ganterschwil
TRANSP:OPAQUE
SEQUENCE:0
UID:20658-veranstaltung@ref-toggenburg.ch
DTSTAMP:20260107T100555Z
DESCRIPTION:Die Kinder der Chinderchile BüGaMo sind herzlich zum
  Sommerfest eingeladen. \n\nKontakt: barbara.kalberer@ref-utg.ch\n
 \nWeitere Infos: https://www.ref-toggenburg.ch/veranstaltung/20658
SUMMARY:Chinderchile BüGaMo
PRIORITY:5
X-MICROSOFT-CDO-IMPORTANCE:1
CLASS:PUBLIC
END:VEVENT
END:VCALENDAR
