BEGIN:VCALENDAR
PRODID:-//kirchenweb.ch gmbh//veranstaltungsausgabe v2.0//DE
VERSION:2.0
METHOD:PUBLISH
BEGIN:VEVENT
DTSTART:20260501T143000Z
DTEND:20260501T153000Z
LOCATION:Kirchgemeindehaus Ganterschwil\, Friedaustrasse 6\, 9608
  Ganterschwil
TRANSP:OPAQUE
SEQUENCE:0
UID:20651-veranstaltung@ref-toggenburg.ch
DTSTAMP:20260107T100439Z
DESCRIPTION:Kontakt: barbara.kalberer@ref-utg.ch\n\nWeitere Infos:
  https://www.ref-toggenburg.ch/veranstaltung/20651
SUMMARY:Chinderchile BüGaMo
PRIORITY:5
X-MICROSOFT-CDO-IMPORTANCE:1
CLASS:PUBLIC
END:VEVENT
END:VCALENDAR
