BEGIN:VCALENDAR
PRODID:-//kirchenweb.ch gmbh//veranstaltungsausgabe v2.0//DE
VERSION:2.0
METHOD:PUBLISH
BEGIN:VEVENT
DTSTART:20260920T173000Z
DTEND:20260920T183000Z
LOCATION:St. Laurentius \, Kappellenweg 6\, 9602 Bazenheid
TRANSP:OPAQUE
SEQUENCE:0
UID:20609-veranstaltung@ref-toggenburg.ch
DTSTAMP:20260408T073031Z
DESCRIPTION:Kontakt: barbara.kalberer@ref-utg.ch\n\nWeitere Infos:
  https://www.ref-toggenburg.ch/veranstaltung/20609
SUMMARY:Taizé\, ökum. Abendgebet
PRIORITY:5
X-MICROSOFT-CDO-IMPORTANCE:1
CLASS:PUBLIC
END:VEVENT
END:VCALENDAR
