BEGIN:VCALENDAR
PRODID:-//kirchenweb.ch gmbh//veranstaltungsausgabe v2.0//DE
VERSION:2.0
METHOD:PUBLISH
BEGIN:VEVENT
DTSTART:20260906T170000Z
DTEND:20260906T180000Z
LOCATION:Evang. Kirche Nesslau\, \,
TRANSP:OPAQUE
SEQUENCE:0
UID:20608-veranstaltung@ref-toggenburg.ch
DTSTAMP:20260408T072939Z
DESCRIPTION:Kontakt: barbara.kalberer@ref-utg.ch\n\nWeitere Infos:
  https://www.ref-toggenburg.ch/veranstaltung/20608
SUMMARY:Taizé\, ökum. Abendgebet
PRIORITY:5
X-MICROSOFT-CDO-IMPORTANCE:1
CLASS:PUBLIC
END:VEVENT
END:VCALENDAR
