BEGIN:VCALENDAR
PRODID:-//kirchenweb.ch gmbh//veranstaltungsausgabe v2.0//DE
VERSION:2.0
METHOD:PUBLISH
BEGIN:VEVENT
DTSTART:20260623T120000Z
DTEND:20260623T153000Z
LOCATION:Morga AG\, Kapplerstrasse 60\, 9642 Ebnat-Kappel
TRANSP:OPAQUE
SEQUENCE:0
UID:20535-veranstaltung@ref-toggenburg.ch
DTSTAMP:20251216T072007Z
DESCRIPTION:Anreise:\nFahrgemeinschaften um 13:30 ab Parkplatz zwischen
  PFarrhäusern\, Lütisburg\noder individuelle Anreise nach Ebnat-Kappel\n
 \nTreffpunkt:\n14:00 Uhr bei der Morga in Ebnat Kappel\n\n\nKontakt:
  Sylvia Brunner\n\nWeitere Infos:
  https://www.ref-toggenburg.ch/veranstaltung/20535
SUMMARY:Besichtigung Morga\, Ebnat-Kappel (AAL/BMG)
PRIORITY:5
X-MICROSOFT-CDO-IMPORTANCE:1
CLASS:PUBLIC
END:VEVENT
END:VCALENDAR
