BEGIN:VCALENDAR
PRODID:-//kirchenweb.ch gmbh//veranstaltungsausgabe v2.0//DE
VERSION:2.0
METHOD:PUBLISH
BEGIN:VEVENT
DTSTART:20261017T080000Z
DTEND:20261017T160000Z
LOCATION:Mehrzweckhalle Ganterschwil\, \, 9608 Ganterschwil
TRANSP:OPAQUE
SEQUENCE:0
UID:20529-veranstaltung@ref-toggenburg.ch
DTSTAMP:20251215T080011Z
DESCRIPTION:Herzliche Einladung zum Familykonzert "D'Arbeiter im
  Wiibärg".\n\nKontakt: Barbara Kalberer\n\nWeitere Infos:
  https://www.ref-toggenburg.ch/veranstaltung/20529
SUMMARY:Familykonzert Adonia
PRIORITY:5
X-MICROSOFT-CDO-IMPORTANCE:1
CLASS:PUBLIC
END:VEVENT
END:VCALENDAR
