BEGIN:VCALENDAR
PRODID:-//kirchenweb.ch gmbh//veranstaltungsausgabe v2.0//DE
VERSION:2.0
METHOD:PUBLISH
BEGIN:VEVENT
DTSTART:20260611T180000Z
DTEND:20260611T193000Z
LOCATION:evangelische Kirche Lütisburg\, Kirchstr. 2\, 9604 Lütisburg
TRANSP:OPAQUE
SEQUENCE:0
UID:20508-veranstaltung@ref-toggenburg.ch
DTSTAMP:20251213T084313Z
DESCRIPTION:Kontakt: Peter Rutz\n\nWeitere Infos:
  https://www.ref-toggenburg.ch/veranstaltung/20508
SUMMARY:Probe Kirchenchor Lütisburg (KCL)
PRIORITY:5
X-MICROSOFT-CDO-IMPORTANCE:1
CLASS:PUBLIC
END:VEVENT
END:VCALENDAR
