BEGIN:VCALENDAR
PRODID:-//kirchenweb.ch gmbh//veranstaltungsausgabe v2.0//DE
VERSION:2.0
METHOD:PUBLISH
BEGIN:VEVENT
DTSTART:20261105T130000Z
DTEND:20261105T160000Z
LOCATION:Pfarreizentrum Mosnang\, Libingerstr. 5\, 9607 Mosnang
TRANSP:OPAQUE
SEQUENCE:0
UID:20448-veranstaltung@ref-toggenburg.ch
DTSTAMP:20260422T122911Z
DESCRIPTION:Unterhaltungsnachmittag mit Komiker Hampi Krüsi (ehem.
  Pressesprecher Kapo SG); Anmeldung bei Beatrice Bollhalder\n\nKontakt:
  Sylvia Brunner\n\nWeitere Infos:
  https://www.ref-toggenburg.ch/veranstaltung/20448
SUMMARY:Seniorennachmittag (AAL/BMG) mit Komiker Hampi Krüsi
PRIORITY:5
X-MICROSOFT-CDO-IMPORTANCE:1
CLASS:PUBLIC
END:VEVENT
END:VCALENDAR
