BEGIN:VCALENDAR
PRODID:-//kirchenweb.ch gmbh//veranstaltungsausgabe v2.0//DE
VERSION:2.0
METHOD:PUBLISH
BEGIN:VEVENT
DTSTART:20260603T100000Z
DTEND:20260603T120000Z
LOCATION:Kirchgemeindehaus Ganterschwil\, Friedaustrasse 6\, 9608
  Ganterschwil
TRANSP:OPAQUE
SEQUENCE:0
UID:20157-veranstaltung@ref-toggenburg.ch
DTSTAMP:20251201T084308Z
DESCRIPTION:Herzliche Einladung zum gemeinsamen Mittagessen. \n\nKontakt:
  Petra Glatthard\n\nWeitere Infos:
  https://www.ref-toggenburg.ch/veranstaltung/20157
SUMMARY:Mittagstisch
PRIORITY:5
X-MICROSOFT-CDO-IMPORTANCE:1
CLASS:PUBLIC
END:VEVENT
END:VCALENDAR
