BEGIN:VCALENDAR
PRODID:-//kirchenweb.ch gmbh//veranstaltungsausgabe v2.0//DE
VERSION:2.0
METHOD:PUBLISH
BEGIN:VEVENT
DTSTART:20261216T130000Z
DTEND:20261216T140000Z
LOCATION:evangelische Kirche Lütisburg\, Kirchstr. 2\, 9604 Lütisburg
TRANSP:OPAQUE
SEQUENCE:0
UID:19753-veranstaltung@ref-toggenburg.ch
DTSTAMP:20251114T091349Z
DESCRIPTION:Danach Adventsfeier im Mehrzweckgebäude Lütisburg.\n
 \nKontakt: Sylvia Brunner\n\nWeitere Infos:
  https://www.ref-toggenburg.ch/veranstaltung/19753
SUMMARY:Adventsfeier der Senioren mit Krippenspiel des KiKi-Spass in
  Lütisburg (AAL/BMG)
PRIORITY:5
X-MICROSOFT-CDO-IMPORTANCE:1
CLASS:PUBLIC
END:VEVENT
END:VCALENDAR
