BEGIN:VCALENDAR
PRODID:-//kirchenweb.ch gmbh//veranstaltungsausgabe v2.0//DE
VERSION:2.0
METHOD:PUBLISH
BEGIN:VEVENT
DTSTART:20260820T093000Z
DTEND:20260820T120000Z
LOCATION:evangelische Kirche Lütisburg\, Kirchstr. 2\, 9604 Lütisburg
TRANSP:OPAQUE
SEQUENCE:0
UID:19750-veranstaltung@ref-toggenburg.ch
DTSTAMP:20260422T132458Z
DESCRIPTION:Genaue Informationen zu den einzelnen Programmpunkten werden
  rechtzeitig im "Lütisburg akutell"\, im Pfarreiforum\, im Kirchenboten
  und auf www.seut.ch und www.ref-utg.ch veröffentlicht.\n\nKontakt:
  Sylvia Brunner\n\nWeitere Infos:
  https://www.ref-toggenburg.ch/veranstaltung/19750
SUMMARY:Grillzmittag der Senioren (AAL)
PRIORITY:5
X-MICROSOFT-CDO-IMPORTANCE:1
CLASS:PUBLIC
END:VEVENT
END:VCALENDAR
