BEGIN:VCALENDAR
PRODID:-//kirchenweb.ch gmbh//veranstaltungsausgabe v2.0//DE
VERSION:2.0
METHOD:PUBLISH
BEGIN:VEVENT
DTSTART:20260611T060000Z
DTEND:20260611T170000Z
LOCATION:Dischmatal / GR\, \,  Davos
TRANSP:OPAQUE
SEQUENCE:0
UID:19747-veranstaltung@ref-toggenburg.ch
DTSTAMP:20251114T084916Z
DESCRIPTION:Tagesausflug\nInformationen folgen\n\nAnmeldung\nAnmeldung bis
  6. Juni bei \nEdith Knobel 079 785 48 46 / 071 931 48 79\nSylvia Brunner
  079 487 92 43 / 071 931 29 68\n\n\nKontakt: Sylvia Brunner\n\nWeitere
  Infos: https://www.ref-toggenburg.ch/veranstaltung/19747
SUMMARY:Tagesauflug an den Lünersee (AAL)
PRIORITY:5
X-MICROSOFT-CDO-IMPORTANCE:1
CLASS:PUBLIC
END:VEVENT
END:VCALENDAR
