BEGIN:VCALENDAR
PRODID:-//kirchenweb.ch gmbh//veranstaltungsausgabe v2.0//DE
VERSION:2.0
METHOD:PUBLISH
BEGIN:VEVENT
DTSTART:20260507T100000Z
DTEND:20260507T170000Z
LOCATION:St. Anton bei Oberegg\, \,
TRANSP:OPAQUE
SEQUENCE:0
UID:19745-veranstaltung@ref-toggenburg.ch
DTSTAMP:20260318T070748Z
DESCRIPTION:Dieses Jahr fahren wir für unsere Maiandacht zur Kapelle St.
  Anton\, die auf 1100 Metern über Meer\, oberhalb von Oberegg steht. Ein
  herrlicher Blick über das St. Galler Rheintal\, den Bodensee und das
  Appenzellerland erwartet uns dort. Noch vor der Maiandacht heisst es im
  Restaurant St. Anton "Sönd wöllkomm" und dies zu Kaffee und Kuchen.
  Anschliessend feiern Katharina Leser und Esther Dreier mit uns
  Maiandacht. Je nach Wetter geniessen wir die Aussicht noch etwas. Wer
  mag\, kann einen Spaziergang unternehmen\, bevor die Rückreise quer
  durchs Appenzellerland weitergeht. Im Restaurant Ochsen in Schönengrund
  legen wir für das Nachtessen nochmals einen Halt ein. \nAbfahrt: \n12:00
  Uhr ab Rössli Dietfurt\n12:10 Uhr ab Freihof Bütschwil\n12:20 ab kath.
  Kirche Bütschwil\n12:30 ab kath. Kirche Ganterschwil\n12:40 Uhr ab kath.
  Kirche Lütisburg\nRückkehr:\nzwischen 20:00 und 20:30 Uhr\n\nKontakt:
  Maja Wild\n\nWeitere Infos:
  https://www.ref-toggenburg.ch/veranstaltung/19745
SUMMARY:Maifahrt nach St. Anton bei Oberegg (AAL/BMG)
PRIORITY:5
X-MICROSOFT-CDO-IMPORTANCE:1
CLASS:PUBLIC
END:VEVENT
END:VCALENDAR
