BEGIN:VCALENDAR
PRODID:-//kirchenweb.ch gmbh//veranstaltungsausgabe v2.0//DE
VERSION:2.0
METHOD:PUBLISH
BEGIN:VEVENT
DTSTART:20260920T170000Z
DTEND:20260920T200000Z
LOCATION:evangelische Kirche Lütisburg\, Kirchstr. 2\, 9604 Lütisburg
TRANSP:OPAQUE
SEQUENCE:0
UID:19706-veranstaltung@ref-toggenburg.ch
DTSTAMP:20251208T101314Z
DESCRIPTION:Im Anschluss Apéro. \n\nKontakt: Fabian Kuhn\n\nWeitere
  Infos: https://www.ref-toggenburg.ch/veranstaltung/19706
SUMMARY:Ökum. Bettagsversammlung
PRIORITY:5
X-MICROSOFT-CDO-IMPORTANCE:1
CLASS:PUBLIC
END:VEVENT
END:VCALENDAR
