BEGIN:VCALENDAR
PRODID:-//kirchenweb.ch gmbh//veranstaltungsausgabe v2.0//DE
VERSION:2.0
METHOD:PUBLISH
BEGIN:VEVENT
DTSTART:20260830T170000Z
DTEND:20260830T200000Z
LOCATION:evangelische Kirche Lütisburg\, Kirchstr. 2\, 9604 Lütisburg
TRANSP:OPAQUE
SEQUENCE:0
UID:19656-veranstaltung@ref-toggenburg.ch
DTSTAMP:20251102T192804Z
DESCRIPTION:Kontakt: Fabian Kuhn\nPetra Glatthard\n\nWeitere Infos:
  https://www.ref-toggenburg.ch/veranstaltung/19656
SUMMARY:Abendgottesdienst "Happy Hour" in Lütisburg
PRIORITY:5
X-MICROSOFT-CDO-IMPORTANCE:1
CLASS:PUBLIC
END:VEVENT
END:VCALENDAR
