BEGIN:VCALENDAR
PRODID:-//kirchenweb.ch gmbh//veranstaltungsausgabe v2.0//DE
VERSION:2.0
METHOD:PUBLISH
BEGIN:VEVENT
DTSTART:20261202T130000Z
DTEND:20261202T153000Z
LOCATION:Turnhalle Dorf\, Bütschwil\, \,
TRANSP:OPAQUE
SEQUENCE:0
UID:19641-veranstaltung@ref-toggenburg.ch
DTSTAMP:20251029T072122Z
DESCRIPTION:Details siehe Mitteilungsblatt.\nSenioren aus Mosnang dürfen
  sich im Pfarramt unter 071 983 15 56 informieren.\n\nKontakt: Maja Wild\n
 \nWeitere Infos: https://www.ref-toggenburg.ch/veranstaltung/19641
SUMMARY:Adventsfeier (AAL/BMG)
PRIORITY:5
X-MICROSOFT-CDO-IMPORTANCE:1
CLASS:PUBLIC
END:VEVENT
END:VCALENDAR
