BEGIN:VCALENDAR
PRODID:-//kirchenweb.ch gmbh//veranstaltungsausgabe v2.0//DE
VERSION:2.0
METHOD:PUBLISH
BEGIN:VEVENT
DTSTART:20261022T120000Z
DTEND:20261022T150000Z
LOCATION:evangelische Kirche Lütisburg\, Kirchstr. 2\, 9604 Lütisburg
TRANSP:OPAQUE
SEQUENCE:0
UID:19110-veranstaltung@ref-toggenburg.ch
DTSTAMP:20260422T133747Z
DESCRIPTION:Nachmittagsprogramm «Bahnreisen leicht gemacht» mit
  Informationen zur SBB-App von pro senectute und musikalischem Programm
  mit Beni Forrer\n\nKontakt: Sylvia Brunner\n\nWeitere Infos:
  https://www.ref-toggenburg.ch/veranstaltung/19110
SUMMARY:Seniorennachmittag (AAL/BMG) "Bahnreisen leicht gemacht"
PRIORITY:5
X-MICROSOFT-CDO-IMPORTANCE:1
CLASS:PUBLIC
END:VEVENT
END:VCALENDAR
