BEGIN:VCALENDAR
PRODID:-//kirchenweb.ch gmbh//veranstaltungsausgabe v2.0//DE
VERSION:2.0
METHOD:PUBLISH
BEGIN:VEVENT
DTSTART:20260912T060000Z
DTEND:20260912T170000Z
LOCATION:Chur\, \,
TRANSP:OPAQUE
SEQUENCE:0
UID:19109-veranstaltung@ref-toggenburg.ch
DTSTAMP:20251114T090239Z
DESCRIPTION:Tagesausflug nach Chur\nAnreise mit der Bahn\n\nLeitung:
  Fabian Kuhn\n\nKontakt: Fabian Kuhn\n\nWeitere Infos:
  https://www.ref-toggenburg.ch/veranstaltung/19109
SUMMARY:Stadtausflug nach Chur (AAL/BMG)
PRIORITY:5
X-MICROSOFT-CDO-IMPORTANCE:1
CLASS:PUBLIC
END:VEVENT
END:VCALENDAR
