BEGIN:VCALENDAR
PRODID:-//kirchenweb.ch gmbh//veranstaltungsausgabe v2.0//DE
VERSION:2.0
METHOD:PUBLISH
BEGIN:VEVENT
DTSTART:20260606T063000Z
DTEND:20260606T113000Z
LOCATION:Unterwegs auf dem Theotrail\, \,
TRANSP:OPAQUE
SEQUENCE:0
UID:19100-veranstaltung@ref-toggenburg.ch
DTSTAMP:20260226T093703Z
DESCRIPTION:Kontakt: gottes.dienst@ref-utg.ch\n\nWeitere Infos:
  https://www.ref-toggenburg.ch/veranstaltung/19100
SUMMARY:Pfefferstern: Theotrail
PRIORITY:5
X-MICROSOFT-CDO-IMPORTANCE:1
CLASS:PUBLIC
END:VEVENT
END:VCALENDAR
