BEGIN:VCALENDAR
PRODID:-//kirchenweb.ch gmbh//veranstaltungsausgabe v2.0//DE
VERSION:2.0
METHOD:PUBLISH
BEGIN:VEVENT
DTSTART:20260507T153000Z
DTEND:20260507T193000Z
LOCATION:Kirchgemeindehaus Ganterschwil\, \,
TRANSP:OPAQUE
SEQUENCE:0
UID:19075-veranstaltung@ref-toggenburg.ch
DTSTAMP:20250701T121925Z
DESCRIPTION:Kontakt: Petra Glatthard\n\nWeitere Infos:
  https://www.ref-toggenburg.ch/veranstaltung/19075
SUMMARY:Pfefferstern: Kochen mit der BIbel
PRIORITY:5
X-MICROSOFT-CDO-IMPORTANCE:1
CLASS:PUBLIC
END:VEVENT
END:VCALENDAR
