BEGIN:VCALENDAR
PRODID:-//kirchenweb.ch gmbh//veranstaltungsausgabe v2.0//DE
VERSION:2.0
METHOD:PUBLISH
BEGIN:VEVENT
DTSTART:20270103T083000Z
DTEND:20270103T093000Z
LOCATION:Evang. Kirche Ganterschwil\, Neckertalstr. 1\, 9608 Ganterschwil
TRANSP:OPAQUE
SEQUENCE:0
UID:19062-veranstaltung@ref-toggenburg.ch
DTSTAMP:20251208T102258Z
DESCRIPTION:Im Anschluss Kirchenkaffee. \n\nKontakt: Katharina Leser\n
 \nWeitere Infos: https://www.ref-toggenburg.ch/veranstaltung/19062
SUMMARY:Gottesdienst in Ganterschwil
PRIORITY:5
X-MICROSOFT-CDO-IMPORTANCE:1
CLASS:PUBLIC
END:VEVENT
END:VCALENDAR
