BEGIN:VCALENDAR
PRODID:-//kirchenweb.ch gmbh//veranstaltungsausgabe v2.0//DE
VERSION:2.0
METHOD:PUBLISH
BEGIN:VEVENT
DTSTART:20260712T170000Z
DTEND:20260712T180000Z
LOCATION:Evang. Kirche Lütisburg\, Kirchstrasse 2\, 9604 Lütisburg
TRANSP:OPAQUE
SEQUENCE:0
UID:19049-veranstaltung@ref-toggenburg.ch
DTSTAMP:20260323T055103Z
DESCRIPTION:Kontakt: Fabian Kuhn\n\nWeitere Infos:
  https://www.ref-toggenburg.ch/veranstaltung/19049
SUMMARY:Abendgottesdienst in Lütisburg
PRIORITY:5
X-MICROSOFT-CDO-IMPORTANCE:1
CLASS:PUBLIC
END:VEVENT
END:VCALENDAR
