BEGIN:VCALENDAR
PRODID:-//kirchenweb.ch gmbh//veranstaltungsausgabe v2.0//DE
VERSION:2.0
METHOD:PUBLISH
BEGIN:VEVENT
DTSTART:20260607T080000Z
DTEND:20260607T090000Z
LOCATION:Evang. Kirche Lütisburg\, Kirchstrasse 2\, 9604 Lütisburg
TRANSP:OPAQUE
SEQUENCE:0
UID:19043-veranstaltung@ref-toggenburg.ch
DTSTAMP:20260323T054603Z
DESCRIPTION:Im Anschluss einfaches Mittagessen\n\nKontakt: Fabian Kuhn\n
 \nWeitere Infos: https://www.ref-toggenburg.ch/veranstaltung/19043
SUMMARY:Familiechirche UTG mit Taufe von Martha Scherrer in Lütisburg
PRIORITY:5
X-MICROSOFT-CDO-IMPORTANCE:1
CLASS:PUBLIC
END:VEVENT
END:VCALENDAR
