BEGIN:VCALENDAR
PRODID:-//kirchenweb.ch gmbh//veranstaltungsausgabe v2.0//DE
VERSION:2.0
METHOD:PUBLISH
BEGIN:VEVENT
DTSTART:20270101T180000Z
DTEND:20270101T190000Z
LOCATION:Evang. Kirche Lütisburg\, Kirchstrasse 2\, 9604 Lütisburg
TRANSP:OPAQUE
SEQUENCE:0
UID:19038-veranstaltung@ref-toggenburg.ch
DTSTAMP:20251119T192353Z
DESCRIPTION:Kontakt: Fabian Kuhn\n\nWeitere Infos:
  https://www.ref-toggenburg.ch/veranstaltung/19038
SUMMARY:Abendgottesdienst in Lütisburg an Neujahr
PRIORITY:5
X-MICROSOFT-CDO-IMPORTANCE:1
CLASS:PUBLIC
END:VEVENT
END:VCALENDAR
