BEGIN:VCALENDAR
PRODID:-//kirchenweb.ch gmbh//veranstaltungsausgabe v2.0//DE
VERSION:2.0
METHOD:PUBLISH
BEGIN:VEVENT
DTSTART:20270101T083000Z
DTEND:20270101T093000Z
LOCATION:Evang. Kirche Bütschwil\, Innerfeld 64\, 9606 Bütschwil
TRANSP:OPAQUE
SEQUENCE:0
UID:19037-veranstaltung@ref-toggenburg.ch
DTSTAMP:20251208T102232Z
DESCRIPTION:Im Anschluss Neujahrsapéro. \n\nKontakt: Anselm Leser\n
 \nWeitere Infos: https://www.ref-toggenburg.ch/veranstaltung/19037
SUMMARY:Neujahrsgottesdienst in Bütschwil mit Abendmahl
PRIORITY:5
X-MICROSOFT-CDO-IMPORTANCE:1
CLASS:PUBLIC
END:VEVENT
END:VCALENDAR
