BEGIN:VCALENDAR
PRODID:-//kirchenweb.ch gmbh//veranstaltungsausgabe v2.0//DE
VERSION:2.0
METHOD:PUBLISH
BEGIN:VEVENT
DTSTART:20260913T073000Z
DTEND:20260913T083000Z
LOCATION:Evang. Kirche Bütschwil\, Innerfeld 64\, 9606 Bütschwil
TRANSP:OPAQUE
SEQUENCE:0
UID:19019-veranstaltung@ref-toggenburg.ch
DTSTAMP:20251208T101046Z
DESCRIPTION:Mit dem Sing-mit Chor als "Ansing-Chor". Lieder von Andreas
  Hausamann und Roman Bislin-Wild.\nIm Anschluss Kirchenkaffee. \n
 \nKontakt: Katharina Leser\n\nWeitere Infos:
  https://www.ref-toggenburg.ch/veranstaltung/19019
SUMMARY:Gottesdienst mit Abendmahl in Bütschwil
PRIORITY:5
X-MICROSOFT-CDO-IMPORTANCE:1
CLASS:PUBLIC
END:VEVENT
END:VCALENDAR
