BEGIN:VCALENDAR
PRODID:-//kirchenweb.ch gmbh//veranstaltungsausgabe v2.0//DE
VERSION:2.0
METHOD:PUBLISH
BEGIN:VEVENT
DTSTART:20260705T170000Z
DTEND:20260705T180000Z
LOCATION:Evang. Kirche Lütisburg\, Kirchstrasse 2\, 9604 Lütisburg
TRANSP:OPAQUE
SEQUENCE:0
UID:19013-veranstaltung@ref-toggenburg.ch
DTSTAMP:20260323T055044Z
DESCRIPTION:Im Anschluss Cocktailbar\n\nKontakt: Fabian Kuhn\n\nWeitere
  Infos: https://www.ref-toggenburg.ch/veranstaltung/19013
SUMMARY:Abendgottesdienst in Lütisburg mit dem Kirchenchor Lütisburg
  (KCL)
PRIORITY:5
X-MICROSOFT-CDO-IMPORTANCE:1
CLASS:PUBLIC
END:VEVENT
END:VCALENDAR
