BEGIN:VCALENDAR
PRODID:-//kirchenweb.ch gmbh//veranstaltungsausgabe v2.0//DE
VERSION:2.0
METHOD:PUBLISH
BEGIN:VEVENT
DTSTART:20260623T180000Z
DTEND:20260623T200000Z
LOCATION:evangelische Kirche Lütisburg\, Kirchstr. 2\, 9604 Lütisburg
TRANSP:OPAQUE
SEQUENCE:0
UID:18845-veranstaltung@ref-toggenburg.ch
DTSTAMP:20250611T122719Z
DESCRIPTION:Kontakt: Petra Glatthard\n\nWeitere Infos:
  https://www.ref-toggenburg.ch/veranstaltung/18845
SUMMARY:Pfefferstern: Elternabend
PRIORITY:5
X-MICROSOFT-CDO-IMPORTANCE:1
CLASS:PUBLIC
END:VEVENT
END:VCALENDAR
