BEGIN:VCALENDAR
PRODID:-//kirchenweb.ch gmbh//veranstaltungsausgabe v2.0//DE
VERSION:2.0
METHOD:PUBLISH
BEGIN:VEVENT
DTSTART:20260606T170000Z
DTEND:20260606T193000Z
LOCATION:evangelische Kirche Lütisburg\, Kirchstr. 2\, 9604 Lütisburg
TRANSP:OPAQUE
SEQUENCE:0
UID:18723-veranstaltung@ref-toggenburg.ch
DTSTAMP:20260312T103208Z
DESCRIPTION:Dieser Heilige Bimbam wird einmalig: wir feiern den
  Jugendgottesdienst gemeinsam mit anderen Jugendlichen aus der Region
  (https://refresh-kirche.ch/). Herzliche Einladung!\n\nKontakt: Petra
  Glatthard\n\nWeitere Infos:
  https://www.ref-toggenburg.ch/veranstaltung/18723
SUMMARY:Heiliger Bimbam
PRIORITY:5
X-MICROSOFT-CDO-IMPORTANCE:1
CLASS:PUBLIC
END:VEVENT
END:VCALENDAR
