BEGIN:VCALENDAR
PRODID:-//kirchenweb.ch gmbh//veranstaltungsausgabe v2.0//DE
VERSION:2.0
METHOD:PUBLISH
BEGIN:VEVENT
DTSTART:20250610T120000Z
DTEND:20250610T150000Z
LOCATION:Pfarrhaus Bütschwil\, Innerfeld 64\, 9606 Bütschwil
TRANSP:OPAQUE
SEQUENCE:0
UID:18575-veranstaltung@ref-toggenburg.ch
DTSTAMP:20250407T075543Z
DESCRIPTION:Einladung zu Kaffee und Kuchen und guten Gesprächen. \n
 \nKontakt: Annelies \nAnnelies Gämperle\n\nWeitere Infos:
  https://www.ref-toggenburg.ch/veranstaltung/18575
SUMMARY:Offene Tür
PRIORITY:5
X-MICROSOFT-CDO-IMPORTANCE:1
CLASS:PUBLIC
END:VEVENT
END:VCALENDAR
