BEGIN:VCALENDAR
PRODID:-//kirchenweb.ch gmbh//veranstaltungsausgabe v2.0//DE
VERSION:2.0
METHOD:PUBLISH
BEGIN:VEVENT
DTSTART:20250604T100000Z
DTEND:20250604T120000Z
LOCATION:Kirchgemeindehaus Ganterschwil\, Friedaustrasse 6\, 9608
  Ganterschwil
TRANSP:OPAQUE
SEQUENCE:0
UID:18565-veranstaltung@ref-toggenburg.ch
DTSTAMP:20250407T075926Z
DESCRIPTION:Herzliche Einladung zum gemeinsamen Essen. \n\nKontakt: Petra
  Glatthard\n\nWeitere Infos:
  https://www.ref-toggenburg.ch/veranstaltung/18565
SUMMARY:Mittagstisch
PRIORITY:5
X-MICROSOFT-CDO-IMPORTANCE:1
CLASS:PUBLIC
END:VEVENT
END:VCALENDAR
