BEGIN:VCALENDAR
PRODID:-//kirchenweb.ch gmbh//veranstaltungsausgabe v2.0//DE
VERSION:2.0
METHOD:PUBLISH
BEGIN:VEVENT
DTSTART:20250613T170000Z
DTEND:20250613T190000Z
LOCATION:evangelische Kirche Lütisburg\, \,
TRANSP:OPAQUE
SEQUENCE:0
UID:18450-veranstaltung@ref-toggenburg.ch
DTSTAMP:20250806T142200Z
DESCRIPTION:Wir wollen ✨connecten✨. Wir treffen uns freitags und
  tauschen über verschiedene Themen aus\, die wir zusammen als Gruppe
  bestimmen. \n\nMotto: Ich\, die Welt und der da oben\nZiel: mit der
  Gruppe\, mit mir selbst und mit dem Glauben 'connecten'\n\nPS: Wie die
  Abende genau aussehen\, bestimmen und planen wir als Gruppe😊\nab der
  7.Klasse \n\nKontakt: Petra Glatthard\n\nWeitere Infos:
  https://www.ref-toggenburg.ch/veranstaltung/18450
SUMMARY:#connect - Jugendgruppe
PRIORITY:5
X-MICROSOFT-CDO-IMPORTANCE:1
CLASS:PUBLIC
END:VEVENT
END:VCALENDAR
