BEGIN:VCALENDAR
PRODID:-//kirchenweb.ch gmbh//veranstaltungsausgabe v2.0//DE
VERSION:2.0
METHOD:PUBLISH
BEGIN:VEVENT
DTSTART:20250605T140000Z
DTEND:20250605T150000Z
LOCATION:Seniorenzentrum Solino\, \, 9606 Bütschwil
TRANSP:OPAQUE
SEQUENCE:0
UID:18219-veranstaltung@ref-toggenburg.ch
DTSTAMP:20250203T125419Z
DESCRIPTION:Kontakt: Anselm Leser\n\nWeitere Infos:
  https://www.ref-toggenburg.ch/veranstaltung/18219
SUMMARY:Gottesdienst im Seniorenzentrum Solino
PRIORITY:5
X-MICROSOFT-CDO-IMPORTANCE:1
CLASS:PUBLIC
END:VEVENT
END:VCALENDAR
