BEGIN:VCALENDAR
PRODID:-//kirchenweb.ch gmbh//veranstaltungsausgabe v2.0//DE
VERSION:2.0
METHOD:PUBLISH
BEGIN:VEVENT
DTSTART:20250610T180000Z
DTEND:20250610T193000Z
LOCATION:Aula BuGaLu\, Bütschwil\, \,
TRANSP:OPAQUE
SEQUENCE:0
UID:17956-veranstaltung@ref-toggenburg.ch
DTSTAMP:20250106T173628Z
DESCRIPTION:Kontakt: Katharina Leser\n\nWeitere Infos:
  https://www.ref-toggenburg.ch/veranstaltung/17956
SUMMARY:Probe Sing-mit Chor
PRIORITY:5
X-MICROSOFT-CDO-IMPORTANCE:1
CLASS:PUBLIC
END:VEVENT
END:VCALENDAR
