BEGIN:VCALENDAR
PRODID:-//kirchenweb.ch gmbh//veranstaltungsausgabe v2.0//DE
VERSION:2.0
METHOD:PUBLISH
BEGIN:VEVENT
DTSTART:20250612T093000Z
DTEND:20250612T103000Z
LOCATION:Restaurant Traube\, Dietfurt\, \,
TRANSP:OPAQUE
SEQUENCE:0
UID:17832-veranstaltung@ref-toggenburg.ch
DTSTAMP:20241219T072247Z
DESCRIPTION:Kontakt: Maja Wild\n\nWeitere Infos:
  https://www.ref-toggenburg.ch/veranstaltung/17832
SUMMARY:Mittagstisch (BMG)
PRIORITY:5
X-MICROSOFT-CDO-IMPORTANCE:1
CLASS:PUBLIC
END:VEVENT
END:VCALENDAR
