BEGIN:VCALENDAR
PRODID:-//kirchenweb.ch gmbh//veranstaltungsausgabe v2.0//DE
VERSION:2.0
METHOD:PUBLISH
BEGIN:VEVENT
DTSTART:20250612T060000Z
DTEND:20250612T170000Z
LOCATION:Dischmatal / GR\, \,  Davos
TRANSP:OPAQUE
SEQUENCE:0
UID:17788-veranstaltung@ref-toggenburg.ch
DTSTAMP:20251114T084820Z
DESCRIPTION:Tagesausflug\nDonnerstag\, 12. Juni ins Dischmatal Davos\n
 \nProgramm\n8.30 Uhr Abfahrt Parkplatz kath. Kirche\, Lütisburg\nFahrt
  nach Davos mit Kaffeehalt unterwegs\n11.30 – 12.30 Uhr Kutschenfahrt
  ins Dischmatal\nMittagessen im Restaurant Teufi\n14.30 Uhr Rückfahrt mit
  den Kutschen nach Davos\n15.30 Uhr Heimfahrt mit Desserthalt unterwegs
 \nca. 19.00 Uhr Ankunft in Lütisburg\n\nKosten\nKosten pro Person Fr.
  90.-\n\nAnmeldung\nAnmeldung bis 6. Juni bei \nEdith Knobel 079 785 48 46
  / 071 931 48 79\nSylvia Brunner 079 487 92 43 / 071 931 29 68\n\n
 \nKontakt: Sylvia Brunner\n\nWeitere Infos:
  https://www.ref-toggenburg.ch/veranstaltung/17788
SUMMARY:Tagesauflug ins Dischmatal (AAL)
PRIORITY:5
X-MICROSOFT-CDO-IMPORTANCE:1
CLASS:PUBLIC
END:VEVENT
END:VCALENDAR
