BEGIN:VCALENDAR
PRODID:-//kirchenweb.ch gmbh//veranstaltungsausgabe v2.0//DE
VERSION:2.0
METHOD:PUBLISH
BEGIN:VEVENT
DTSTART:20250608T073000Z
DTEND:20250608T083000Z
LOCATION:evangelische Kirche Ganterschwil\, Neckertalstr. 1\, 9608
  Ganterschwil
TRANSP:OPAQUE
SEQUENCE:0
UID:16857-veranstaltung@ref-toggenburg.ch
DTSTAMP:20250330T190324Z
DESCRIPTION:Im Anschluss Kirchenkaffee\n\nKontakt: Katharina Leser\n
 \nWeitere Infos: https://www.ref-toggenburg.ch/veranstaltung/16857
SUMMARY:Pfingstgottesdienst mit Abendmahl in Ganterschwil
PRIORITY:5
X-MICROSOFT-CDO-IMPORTANCE:1
CLASS:PUBLIC
END:VEVENT
END:VCALENDAR
