BEGIN:VCALENDAR
PRODID:-//kirchenweb.ch gmbh//veranstaltungsausgabe v2.0//DE
VERSION:2.0
METHOD:PUBLISH
BEGIN:VEVENT
DTSTART:20250607T103000Z
DTEND:20250607T144500Z
LOCATION:extern\, \,
TRANSP:OPAQUE
SEQUENCE:0
UID:16825-veranstaltung@ref-toggenburg.ch
DTSTAMP:20250604T065438Z
DESCRIPTION:Kontakt: petra.glatthard@ref-utg.ch\n\nWeitere Infos:
  https://www.ref-toggenburg.ch/veranstaltung/16825
SUMMARY:Pfefferstern Theotrail
PRIORITY:5
X-MICROSOFT-CDO-IMPORTANCE:1
CLASS:PUBLIC
END:VEVENT
END:VCALENDAR
