BEGIN:VCALENDAR
PRODID:-//kirchenweb.ch gmbh//veranstaltungsausgabe v2.0//DE
VERSION:2.0
METHOD:PUBLISH
BEGIN:VEVENT
DTSTART:20250525T073000Z
DTEND:20250525T083000Z
LOCATION:evangelische Kirche Lütisburg\, \,
TRANSP:OPAQUE
SEQUENCE:0
UID:16151-veranstaltung@ref-toggenburg.ch
DTSTAMP:20250520T093007Z
DESCRIPTION:Konfirmiert werden:\nKarin Schoch\, Berghof\, Ganterschwil
 \nNaira Nef\, Ganterschwil\nLinda Looser\, Lütisburg Station\nShayenne
  Deflorin\, Ganterschwil\nFlorian Kunz\, Mosnang\nAnika Speck\, Bütschwil
 \nAlina Bösch\, Oberhelfenschwil\nMia Solenthaler\, Lütisburg\n\nIm
  Anschluss Apéro\n\nKontakt: Fabian Kuhn\n\nWeitere Infos:
  https://www.ref-toggenburg.ch/veranstaltung/16151
SUMMARY:Konfirmationsgottesdienst 1/2025 in Lütisburg
PRIORITY:5
X-MICROSOFT-CDO-IMPORTANCE:1
CLASS:PUBLIC
END:VEVENT
END:VCALENDAR
