BEGIN:VCALENDAR
PRODID:-//kirchenweb.ch gmbh//veranstaltungsausgabe v2.0//DE
VERSION:2.0
METHOD:PUBLISH
BEGIN:VEVENT
DTSTART:20250608T073000Z
DTEND:20250608T083000Z
LOCATION:evangelische Kirche Bütschwil\, \,
TRANSP:OPAQUE
SEQUENCE:0
UID:16149-veranstaltung@ref-toggenburg.ch
DTSTAMP:20250612T143501Z
DESCRIPTION:Konfirmiert werden:\nBeda Bleiker\, Mosnang\nRuben
  Geschwiler\, Mosnang\nAndrin Schättin\, Mosnang\nLaurin Truniger\,
  Wilen\, Dreien\nRamon Thoma\, Lütisburg Station\nLuca Schönenberger\,
  Ganterschwil\nYannick Bischofberger\, Bütschwil\nMaurine Hasler\,
  Bütschwil\nNoelle Scherrer\, Mosnang\nLorena Roth\, Kengelbach\,
  Dietfurt\n\nIm Anschluss Apéro\n\nKontakt: Fabian Kuhn\n\nWeitere Infos:
  https://www.ref-toggenburg.ch/veranstaltung/16149
SUMMARY:Konfirmationsgottesdienst 2/2025 in Bütschwil
PRIORITY:5
X-MICROSOFT-CDO-IMPORTANCE:1
CLASS:PUBLIC
END:VEVENT
END:VCALENDAR
